Workbook

Sheet Centralizator
A1: OSD MEGACONSTRUCT | H1: Anexa nr. 1
A3: PROCES CONCURENTIAL DE DESEMNARE A OE PENTRU LUCRARILE DE PROIECTARE SI EXECUTIE NECESARE RACORDARII
A4: COD LICITATIE: | B4: MEGA_GR_2026_072
A6: Judet | B6: Localitate | C6: Extinderi SD (buc.) | E6: Racord si/sau PRM/PM/PR (buc) | I6: Oferta
C7: L< 2500 ml | D7: L>2500 ml | E7: Racorduri | F7: PRM | G7: PM | H7: SRM
A8: Giurgiu | B8: Adunatii Copaceni | C8: 1 | E8: 1 | F8: 1 | I8: D_Detalii Executie racorduri-1
A9: Giurgiu | B9: Adunatii Copaceni | E9: 1 | F9: 1 | I9: D_Detalii Executie racorduri-2
A10: Giurgiu | B10: Comana | E10: 2 | F10: 2 | I10: D_Detalii Executie racorduri-2
A11: Total | C11: =SUM(C8:C10) -> 1 | D11: =SUM(D8:D10) -> 0 | E11: =SUM(E8:E10) -> 4 | F11: =SUM(F8:F10) -> 4 | G11: =SUM(G8:G10) -> 0 | H11: =SUM(H8:H10) -> 0 | K11: =SUM(F11:H11) -> 4
A13: Nota 1:
A14: -in aceasta procedura este inclusa o lucrare de extindere SD, 74ml, DN63mm cu 2 instalatii de racordare
A15: -in aceasta procedura este inclusa o lucrare de extindere SD, 26ml, DN63mm cu 1 instalatie de racordare
A17: Nota 2:
A18: - oferta se va face pentru ambele pachete din "D_Detalii Executie racorduri-1" si "D_Detalii Executie racorduri-2"
A19: - oferta "D_Detalii Executie racorduri-1" contine lucrarile de pentru doua instalatii de racordare, conform ATR specificat
A20: - oferta "D_Detalii Executie racorduri-2" contine lucrarile de pentru diferenta de 19 instalatii de racordare
A22: Mentiuni:
A23: - in oferta D_Detalii Executie racorduri-2" se va avea in vedere elemente noi: "Teu bransare electrofuziune GF stop gaz MOV ",
A24: cadru metalic model nou tip H (Anexa 28 din caietul de sarcini", obligatia utilizarii reiserelor lungi de minim 170cm.

Sheet A_Centralizarelucrari
A1: OSD MEGACONSTRUCT | H1: Anexa nr. 1
A3: FISA ACHIZITIE LUCRARI DE PROIECTARE SI EXECUTIE NECESARE RACORDARII
A5: UAT/JUDET: | C5: Giurgiu
A6: Localitati: | C6: Adunatii Copaceni ; Comana
A7: Cod procedura: | C7: =Centralizator!B4 -> MEGA_GR_2026_072
A8: Data publicare: | C8: 46295
A9: Data maxima depunere oferte: | C9: 46317
A11: A. CENTRALIZARE LUCRARI
A13: Extinderi SD (buc) | C13: Racorduri (buc) | D13: Posturi si statii de reglare-masurare (buc)
A14: L< 2500 ml | B14: L>2500 ml | C14: Racorduri | D14: PRM | E14: PM | F14: PR | G14: SRM | H14: SR
A15: =Centralizator!C11+Centralizator!D11 -> 1 | B15: =Centralizator!D11 -> 0 | C15: =Centralizator!E11 -> 4 | D15: =Centralizator!F11 -> 4 | E15: =Centralizator!G11 -> 0 | F15: =Centralizator!H11 -> 0 | G15: 0 | H15: 0
A17: A.1 Extinderi
A19: Extinderi SD <2500ml pe diametre Dn (mm) - buc
A20: 40 | B20: 63 | C20: 75 | D20: 90 | E20: 110 | F20: 125 | G20: 160 | H20: 180 | I20: 200 | J20: 250
B21: 1 | E21: 0 | F21: 0 | G21: 0 | H21: 0 | I21: 0 | J21: 0
A23: Lungime extinderi SD <2500 ml pe diametre Dn (mm) - L (ml)
A24: 40 | B24: 63 | C24: 75 | D24: 90 | E24: 110 | F24: 125 | G24: 160 | H24: 180 | I24: 200 | J24: 250
B25: 26 | E25: 0 | F25: 0 | G25: 0 | H25: 0 | I25: 0 | J25: 0
A27: Extinderi SD > 2500ml pe diametre Dn (mm) - buc
A28: 40 | B28: 63 | C28: 75 | D28: 90 | E28: 110 | F28: 125 | G28: 160 | H28: 180 | I28: 200 | J28: 250
A29: 0 | B29: 0 | C29: 0 | D29: 0 | E29: 0 | F29: 0 | G29: 0 | H29: 0 | I29: 0 | J29: 0
A31: Lungime extinderi SD >2500ml pe diametre Dn (mm) - L (ml)
A32: 40 | B32: 63 | C32: 75 | D32: 90 | E32: 110 | F32: 125 | G32: 160 | H32: 180 | I32: 200 | J32: 250
A33: 0 | B33: 0 | C33: 0 | D33: 0 | E33: 0 | F33: 0 | G33: 0 | H33: 0 | I33: 0 | J33: 0
A35: Lungime totala extinderi SD (ml) | C35: Lungime totala (ml)
A36: L< 2500 ml | B36: L>2500 ml
A37: =SUM(A25:K25) -> 26 | B37: =SUM(A33:J33) -> 0 | C37: =B37+A37 -> 26
A39: A.2 Racorduri
A41: Numar de racorduri pe Dn (mm) - buc | H41: Total bucati
A42: 32 | B42: 40 | C42: 63 | D42: 75 | E42: 90 | F42: 110 | G42: 125 | H42: =SUM(A43:G43) -> 4
A43: =Centralizator!E11 -> 4 | B43: 0 | C43: 0 | D43: 0 | E43: 0 | F43: 0 | G43: 0
A45: Detaliere racorduri Dn (mm) / L (ml) | H45: Total lungime
A46: 32 | B46: 40 | C46: 63 | D46: 75 | E46: 90 | F46: 110 | G46: 125 | H46: =SUM(A47:G47) -> 12.5
A47: =5.5+7 -> 12.5 | C47: 0 | D47: 0 | E47: 0 | F47: 0 | G47: 0
A49: B. VALOARE ESTIMATA LUCRARI (lei fara TVA)* | D49: =SUM(D50:D51) -> 13415.14
A50: B.1 - VALOARE ESTIMATA LUCRARI EXTINDERE SD: | D50: ='C_Detalii Executie extinderi'!F59 -> 4319.9905
A51: B.2 - VALOARE ESTIMATA LUCRARI RACORDARE: | D51: ='D_Detalii Executie racorduri-1'!F87+'D_Detalii Executie racordurI-2'!F96 -> 9095.15

Sheet C_Detalii Executie extinderi
H1: Anexa nr. 1.1 - Oferta economica extinderi SD
A2: UAT/JUDET: | B2: =A_Centralizarelucrari!C5 -> Giurgiu
A3: Localitati: | B3: =A_Centralizarelucrari!C6 -> Adunatii Copaceni ; Comana
A4: Cod procedura: | B4: =A_Centralizarelucrari!C7 -> MEGA_GR_2026_072
A5: Data publicare: | B5: =A_Centralizarelucrari!C8 -> 46295
A6: Data maxima depunere oferte: | B6: =A_Centralizarelucrari!C9 -> 46317
A8: C. DETALII EXECUTIE EXTINDERI
A9: Lungime totala (ml): | B9: 26
A10: Dn (mm): | B10: 63
A11: Nr. extinderi | B11: =D54 -> 1
A12: Nr crt | B12: Articol | C12: UM | D12: Cantitate totala | E12: Pret unitar oferit (lei/UM) | F12: Pret oferta economica OSD (lei) | G12: Pret ofertat OE (lei/U.M.) | H12: Valoare oferta OE (lei)
A13: 1 | B13: Total I - Sapatura/nisip | F13: 3053.35 | H13: =SUM(H14:H19) -> 0
A14: 1.1 | B14: Lucrari extindere conducta (diametru conducta de pana la 90mm inclusiv)-vezi nota 3 | C14: ml | D14: 26 | E14: 85.69 | F14: 2227.94 | H14: =G14*D14 -> 0
A15: 1.2 | B15: Pret nisip (diametru conducta de pana la 90mm inclusiv) | C15: ml | D15: 26 | E15: 23.76 | F15: 617.76 | H15: =G15*D15 -> 0
A16: 1.3 | B16: Lucrari extindere conducta (diametru conducta de la DN110 la DN225)-vezi nota 3 | C16: ml | D16: 0 | E16: 123.68 | F16: 0 | H16: =G16*D16 -> 0
A17: 1.4 | B17: Pret nisip (diametru conducta de peste 110mm) | C17: ml | D17: 0 | E17: 35.64 | F17: 0 | H17: =G17*D17 -> 0
A18: 1.5 | B18: Sapatura sondaje retele | C18: buc | D18: 1 | E18: 57.53 | F18: 57.53 | H18: =G18*D18 -> 0
A19: 1.6 | B19: Sapatura groapa de cuplare | C19: buc | D19: 1 | E19: 150.12 | F19: 150.12 | H19: =G19*D19 -> 0
A20: 2 | B20: Total II - Cheltuieli cu desfacere si aducere la stare initiala | F20: 0 | H20: =SUM(H21:H35) -> 0
A21: 2.1 | B21: Desfacere Pavele/Dale | C21: mp | D21: 0 | E21: 53.485714 | F21: 0 | H21: =G21*D21 -> 0
A22: 2.2 | B22: Refacere Pavele/Dale | C22: mp | D22: 0 | E22: 69.942857 | F22: 0 | H22: =G22*D22 -> 0
A23: 2.3 | B23: Taiere beton max 20cm | C23: ml | D23: 0 | E23: 16.2 | F23: 0 | H23: =G23*D23 -> 0
A24: 2.4 | B24: Desfacere Beton max 20cm | C24: mp | D24: 0 | E24: 53.485714 | F24: 0 | H24: =G24*D24 -> 0
A25: 2.5 | B25: Refacere Beton max 20cm | C25: mp | D25: 0 | E25: 110.05714 | F25: 0 | H25: =G25*D25 -> 0
A26: 2.6 | B26: Taiere asfalt carosabil | C26: ml | D26: 0 | E26: 16.2 | F26: 0 | H26: =G26*D26 -> 0
A27: 2.7 | B27: Desfacere Asfalt carosabil | C27: mp | D27: 0 | E27: 53.485714 | F27: 0 | H27: =G27*D27 -> 0
A28: 2.8 | B28: Refacere Asfalt carosabil | C28: mp | D28: 0 | E28: 264.34286 | F28: 0 | H28: =G28*D28 -> 0
A29: 2.9 | B29: Taiere asfalt trotuar | C29: ml | D29: 0 | E29: 16.2 | F29: 0 | H29: =G29*D29 -> 0
A30: 2.1 | B30: Desfacere Asfalt trotuar | C30: mp | D30: 0 | E30: 53.485714 | F30: 0 | H30: =G30*D30 -> 0
A31: 2.11 | B31: Refacere Asfalt trotuar | C31: mp | D31: 0 | E31: 211.88571 | F31: 0 | H31: =G31*D31 -> 0
A32: 2.12 | B32: Desfacere Piatra sparta/macadam | C32: mp | D32: 0 | E32: 26.742857 | F32: 0 | H32: =G32*D32 -> 0
... A35: 2.15 | B35: Strat suplimentar pietris/piatra sparta/macadam/balast (10cm) | C35: mp | D35: 0 | E35: 37.028571 | F35: 0 | H35: =G35*D35 -> 0
A36: 3 | B36: Total III - Lucrari de foraj | F36: 0 | H36: =SUM(H37:H43) -> 0
A37: 3.1 | B37: - Lucrari de foraj 110 mm (3'') | C37: ml | D37: 0 | E37: 161.5572 | F37: 0 | H37: =G37*D37 -> 0
A38: 3.2 | B38: - Lucrari de foraj 125 mm (4'') | C38: ml | D38: 0 | E38: 183.5892 | F38: 0 | H38: =G38*D38 -> 0
A39: 3.3 | B39: - Lucrari de foraj 168 mm (6'') | C39: ml | D39: 0 | E39: 246.7476 | F39: 0 | H39: =G39*D39 -> 0
A40: 3.4 | B40: - Lucrari de foraj 219 mm (8'') | C40: ml | D40: 0 | E40: 321.6456 | F40: 0 | H40: =G40*D40 -> 0
A41: 3.5 | B41: - Lucrari de foraj 273 mm (10'') | C41: ml | D41: 0 | E41: 400.9608 | F41: 0 | H41: =G41*D41 -> 0
A42: 3.6 | B42: - Lucrari de foraj 323 mm (12'') | C42: ml | D42: 0 | E42: 474.4008 | F42: 0 | H42: =G42*D42 -> 0
A43: 3.7 | B43: - Sapatura groapa de foraj (2mlx1mlx1ml) | C43: ml | D43: 0 | E43: 199.8 | F43: 0 | H43: =G43*D43 -> 0
...

Sheet D_Detalii Executie racorduri-1
H1: Anexa nr. 1.2 - Oferta economica racorduri
A2: UAT/JUDET: | B2: =A_Centralizarelucrari!C5 -> Giurgiu
A3: Localitati: | B3: =A_Centralizarelucrari!C6 -> Adunatii Copaceni ; Comana
A4: Cod procedura: | B4: =A_Centralizarelucrari!C7 -> MEGA_GR_2026_072
A5: Data publicare: | B5: =A_Centralizarelucrari!C8 -> 46295
A6: Data maxima depunere oferte: | B6: =A_Centralizarelucrari!C9 -> 46317
A8: D. DETALII EXECUTIE RACORDURI
A9: Nr crt | B9: Denumire articol | C9: U.M. | D9: Cantitate | E9: Pret oferit de EC (lei/U.M.) | F9: Pret oferta economica OSD (lei) | G9: Pret ofertat OE (lei/U.M.) | H9: Valoare oferta OE (lei)
B10: A. Proiectare instalatii de racordare | F10: =F11+F17+F16 -> 688.57143 | H10: =H11+H17+H16 -> 0
A11: 1.1 | B11: Proiectare instalatii de racordare dintre care: | C11: buc | D11: =Centralizator!K11 -> 4 | F11: =SUM(F12:F15) -> 400.95238 | H11: =SUM(H12:H15) -> 0
A12: 1.1 | B12: racord si PRM/SRM | C12: buc | D12: 1 | E12: 400.95238 | F12: =E12*D12 -> 400.95238 | H12: =G12*D12 -> 0
A13: 1.2 | B13: racord si PR | C13: buc | D13: 0 | E13: 400.95238 | F13: =E13*D13 -> 0 | H13: =G13*D13 -> 0
A14: 1.3 | B14: PM/PRM/SM | C14: buc | D14: 0 | E14: 400.95238 | F14: =E14*D14 -> 0 | H14: =G14*D14 -> 0
A15: 1.4 | B15: PR din racord comun | C15: buc | D15: 0 | E15: 400.95238 | F15: =E15*D15 -> 0 | H15: =G15*D15 -> 0
A16: 1.2 | B16: Verificare proiecte tehnice | C16: buc | D16: =D11 -> 4 | E16: 61.904762 | F16: =E16*D16 -> 247.61905 | H16: =G16*D16 -> 0
A17: 2 | B17: Intocmirea, depunerea documentatiilor si obtinerea avizelor/acordurilor/autorizatiilor (fara costurile efective ale avizelor/acordurilor solicitate de catre UAT/detinatorii de utilitati). | C17: buc | D17: =D12+D13 -> 1 | E17: 40 | F17: =E17*D17 -> 40 | H17: =G17*D17 -> 0
B18: B. Executie instalatie de racordare | F18: =F19+F33+F35+F40+F44+F48+F62 -> 2176.4286 | H18: =H19+H33+H35+H40+H44+H48+H62 -> -891.42857
A19: 3 | B19: Teuri de bransament pentru DN32 mm din PE, dintre care: | C19: buc | D19: =SUM(D20:D32) -> 1 | F19: =SUM(F20:F32) -> 0 | H19: =SUM(H20:H32) -> 0
A20: 3.1 | B20: Teu bransament 32 mm (valoare inclusa in primul metru) | C20: buc | D20: 0 | E20: 0 | F20: =E20*D20 -> 0 | G20: 0 | H20: =G20*D20 -> 0
A21: 3.2 | B21: Teu bransament 40 mm (se coteaza diferenta de pret dintre Teu 40/32 si Teu 63/32) | C21: buc | D21: 0 | E21: 6.3498864 | F21: =E21*D21 -> 0 | H21: =G21*D21 -> 0
A22: 3.3 | B22: Teu bransament 63 mm (valoare inclusa in primul metru) | C22: buc | D22: 1 | E22: 0 | F22: =E22*D22 -> 0 | G22: 0 | H22: =G22*D22 -> 0
A23: 3.4 | B23: Teu bransament 75 mm (se coteaza diferenta de pret dintre Teu 75/32 si Teu 63/32) | C23: buc | D23: 0 | E23: 14.232504 | F23: =E23*D23 -> 0 | H23: =G23*D23 -> 0
A24: 3.5 | B24: Teu bransament 90 mm (se coteaza diferenta de pret dintre Teu 90/32 si Teu 63/32) | C24: buc | D24: 0 | E24: 17.79063 | F24: =E24*D24 -> 0 | H24: =G24*D24 -> 0
A25: 3.6 | B25: Teu bransament 110 mm (se coteaza diferenta de pret dintre Teu 110/32 si Teu 63/32) | C25: buc | D25: 0 | E25: 16.969524 | F25: =E25*D25 -> 0 | H25: =G25*D25 -> 0
A26: 3.7 | B26: Teu bransament 125 mm (se coteaza diferenta de pret dintre Teu 125/32 si Teu 63/32) | C26: buc | D26: 0 | E26: 47.788369 | F26: =E26*D26 -> 0 | H26: =G26*D26 -> 0
A27: 3.8 | B27: Teu bransament 160 mm (se coteaza diferenta de pret dintre Teu 160/32 si Teu 63/32) | C27: buc | D27: 0 | E27: 55.287804 | F27: =E27*D27 -> 0 | H27: =G27*D27 -> 0
A28: 3.9 | B28: Teu bransament 180 mm (se coteaza diferenta de pret dintre Teu 180/32 si Teu 63/32) | C28: buc | D28: 0 | E28: 64.26523 | F28: =E28*D28 -> 0 | H28: =G28*D28 -> 0
A29: 3.1 | B29: Teu bransament 200 mm (se coteaza diferenta de pret dintre Teu 200/32 si Teu 63/32) | C29: buc | D29: 0 | E29: 65.68848 | F29: =E29*D29 -> 0 | H29: =G29*D29 -> 0
A30: 3.1 | B30: Teu bransament 225 mm (se coteaza diferenta de pret dintre Teu 225/32 si Teu 63/32) | C30: buc | D30: 0 | E30: 230.73079 | F30: =E30*D30 -> 0 | H30: =G30*D30 -> 0
A31: 3.1 | B31: Teu bransament 250 mm (se coteaza diferenta de pret dintre Teu 250/32 si Teu 63/32) | C31: buc | D31: 0 | E31: 325.81486 | F31: =E31*D31 -> 0 | H31: =G31*D31 -> 0
A32: 3.12 | B32: Teu bransament 280 mm (se coteaza diferenta de pret dintre Teu 280/32 si Teu 63/32) | C32: buc | D32: 0 | E32: 171.33745 | F32: =E32*D32 -> 0 | H32: =G32*D32 -> 0
A33: 4 | B33: Teuri de bransament pentru DN40 mm din PE, dintre care: | F33: =F34 -> 0 | H33: =H34 -> 0
A34: 4.1 | B34: Teu bransament 160/40mm (se coteaza diferenta de pret dintre Teu 160/40 si Teu 63/32) | C34: buc | D34: 0 | F34: =D34*74.78 -> 0 | H34: =G34*D34 -> 0
A35: 5 | B35: Cost executie propriuzisa | C35: ml | D35: =A_Centralizarelucrari!A47+A_Centralizarelucrari!B47+A_Centralizarelucrari!C47 -> 12.5 | F35: =SUM(F36:F39) -> 1947.1429 | H35: =SUM(H36:H39) -> 0
A36: 5.1 | B36: Cost standard (primul metru) - L (DN32) | C36: ml | D36: =D19-D38 -> 1 | E36: 948.57143 | F36: =E36*D36 -> 948.57143 | H36: =G36*D36 -> 0
A37: 5.2 | B37: Cost unitar (metri suplimentari) - (L-1) (DN32) | C37: ml | D37: 4.5 | E37: 221.90476 | F37: =E37*D37 -> 998.57143 | H37: =G37*D37 -> 0
A38: 5.3 | B38: Cost standard (primul metru) - L (DN40) | C38: ml | D38: 0 | E38: 1053.3333 | F38: =E38*D38 -> 0 | H38: =G38*D38 -> 0
A39: 5.4 | B39: Cost unitar (metri suplimentari) - (L-1) (DN40) | C39: ml | D39: 0 | E39: 225.71429 | F39: =E39*D39 -> 0 | H39: =G39*D39 -> 0
A40: 6 | B40: Lucrari de foraj | F40: =SUM(F41:F43) -> -2.3809524 | H40: =SUM(H41:H43) -> -891.42857
A41: 6.1 | B41: Scadere valoare sapatura aferenta forajului si gropilor de pozitie - (ml foraj + lungime groapa pozitie) x pret unitar/ml* (vezi nota nr. 4) | C41: ml | D41: =-(D42+D43) -> -4.5 | E41: 198.09524 | F41: =D41*E41 -> -891.42857 | H41: =F41 -> -891.42857
...

Sheet D_Detalii Executie racordurI-2
H1: Anexa nr. 1.2 - Oferta economica racorduri
A2: UAT/JUDET: | B2: =A_Centralizarelucrari!C5 -> Giurgiu | F2: - TARIFE 2
A3: Localitati: | B3: =A_Centralizarelucrari!C6 -> Adunatii Copaceni ; Comana
A4: Cod procedura: | B4: =A_Centralizarelucrari!C7 -> MEGA_GR_2026_072
A5: Data publicare: | B5: =A_Centralizarelucrari!C8 -> 46295
A6: Data maxima depunere oferte: | B6: =A_Centralizarelucrari!C9 -> 46317
A8: D. DETALII EXECUTIE RACORDURI
A9: Nr crt | B9: Denumire articol | C9: U.M. | D9: Cantitate | E9: Pret oferit de EC (lei/U.M.) | F9: Pret oferta economica OSD (lei) | G9: Pret ofertat OE (lei/U.M.) | H9: Valoare oferta OE (lei)
B10: A. Proiectare instalatii de racordare | F10: =F11+F17+F16 -> 1743 | H10: =H11+H17+H16 -> 0
A11: 1.1 | B11: Proiectare instalatii de racordare dintre care: | C11: buc | D11: =SUM(D12:D15) -> 3 | F11: =SUM(F12:F15) -> 1371 | H11: =SUM(H12:H15) -> 0
A12: 1.1 | B12: racord si PRM/SRM | C12: buc | D12: 3 | E12: 457 | F12: =E12*D12 -> 1371 | H12: =G12*D12 -> 0
A13: 1.2 | B13: racord si PR | C13: buc | D13: 0 | E13: 457 | F13: =E13*D13 -> 0 | H13: =G13*D13 -> 0
A14: 1.3 | B14: PM/PRM/SM | C14: buc | D14: 0 | E14: 457 | F14: =E14*D14 -> 0 | H14: =G14*D14 -> 0
A15: 1.4 | B15: PR din racord comun | C15: buc | D15: 0 | E15: 457 | F15: =E15*D15 -> 0 | H15: =G15*D15 -> 0
A16: 1.2 | B16: Verificare proiecte tehnice | C16: buc | D16: =D11 -> 3 | E16: 77 | F16: =E16*D16 -> 231 | H16: =G16*D16 -> 0
A17: 2 | B17: Intocmirea, depunerea documentatiilor si obtinerea avizelor/acordurilor/autorizatiilor (nu include costurile efective ale avizelor/acordurilor solicitate de catre UAT/detinatorii de utilitati) | C17: buc | D17: =D12+D13 -> 3 | E17: 47 | F17: =E17*D17 -> 141 | H17: =G17*D17 -> 0
B18: B. Executie instalatie de racordare | F18: =F19+F33+F35+F40+F48+F56+F70 -> 4487.15 | H18: =H19+H33+H35+H40+H48+H56+H70 -> 0
A19: 3 | B19: Teuri de bransament pentru DN32 mm din PE, dintre care: | C19: buc | D19: =SUM(D20:D32) -> 3 | F19: =SUM(F20:F32) -> 0 | H19: =SUM(H20:H32) -> 0
A20: 3.1 | B20: Teu bransare electrofuziune GF stop gaz MOV 40/32 - se scade din costul standard | C20: buc | D20: 0 | E20: -33 | F20: =E20*D20 -> 0 | H20: =G20*D20 -> 0
A21: 3.2 | B21: Teu bransare electrofuziune GF stop gaz MOV 63/32 - inclus in costul standard | C21: buc | D21: 3 | E21: 0 | F21: =E21*D21 -> 0 | G21: 0 | H21: =G21*D21 -> 0
A22: 3.3 | B22: Teu bransare electrofuziune GF stop gaz MOV 75/32 - se deconteaza suplimentar | C22: buc | D22: 0 | E22: 61 | F22: =E22*D22 -> 0 | H22: =G22*D22 -> 0
A23: 3.4 | B23: Teu bransare electrofuziune GF stop gaz MOV 90/32 - se deconteaza suplimentar | C23: buc | D23: 0 | E23: 9 | F23: =E23*D23 -> 0 | H23: =G23*D23 -> 0
A24: 3.5 | B24: Teu bransare electrofuziune GF stop gaz MOV 110/32 - se deconteaza suplimentar | C24: buc | D24: 0 | E24: 38 | F24: =E24*D24 -> 0 | H24: =G24*D24 -> 0
A25: 3.6 | B25: Teu bransare electrofuziune GF stop gaz MOV 125/32 - se deconteaza suplimentar | C25: buc | D25: 0 | E25: 18 | F25: =E25*D25 -> 0 | H25: =G25*D25 -> 0
A26: 3.7 | B26: Teu bransare electrofuziune GF stop gaz MOV 140/32 - se deconteaza suplimentar | C26: buc | D26: 0 | E26: 76 | F26: =E26*D26 -> 0 | H26: =G26*D26 -> 0
A27: 3.8 | B27: Teu bransare electrofuziune GF stop gaz MOV 160/32 - se deconteaza suplimentar | C27: buc | D27: 0 | E27: 87 | F27: =E27*D27 -> 0 | H27: =G27*D27 -> 0
A28: 3.9 | B28: Teu bransare electrofuziune GF stop gaz MOV 180/32 - se deconteaza suplimentar | C28: buc | D28: 0 | E28: 94 | F28: =E28*D28 -> 0 | H28: =G28*D28 -> 0
A29: 3.1 | B29: Teu bransare electrofuziune GF stop gaz MOV 200/32 - se deconteaza suplimentar | C29: buc | D29: 0 | E29: 98 | F29: =E29*D29 -> 0 | H29: =G29*D29 -> 0
A30: 3.1 | B30: Teu bransare electrofuziune GF stop gaz MOV225/32 - se deconteaza suplimentar | C30: buc | D30: 0 | E30: 98 | F30: =E30*D30 -> 0 | H30: =G30*D30 -> 0
A31: 3.1 | B31: Teu bransare electrofuziune GF stop gaz MOV 250/32 - se deconteaza suplimentar | C31: buc | D31: 0 | E31: 153 | F31: =E31*D31 -> 0 | H31: =G31*D31 -> 0
A32: 3.12 | B32: Teu bransare electrofuziune GF stop gaz MOV 315/32 - se deconteaza suplimentar | C32: buc | D32: 0 | E32: 791 | F32: =E32*D32 -> 0 | H32: =G32*D32 -> 0
A33: 4 | B33: Teuri de bransament pentru DN40 mm din PE, dintre care: | F33: =F34 -> 0 | H33: =H34 -> 0
A34: 4.1 | B34: Teu bransament 160/40mm (se coteaza diferenta de pret dintre Teu 160/40 si Teu 63/32) | C34: buc | D34: 0 | F34: =D34*74.78 -> 0 | H34: =G34*D34 -> 0
A35: 5 | B35: Cost executie propriuzisa | C35: ml | D35: =D36+D37 -> 7 | F35: =SUM(F36:F39) -> 2978 | H35: =SUM(H36:H39) -> 0
A36: 5.1 | B36: Cost standard (primul metru) - L (DN32) | C36: ml | D36: 1 | E36: 1316 | F36: =E36*D36 -> 1316 | H36: =G36*D36 -> 0
A37: 5.2 | B37: Cost unitar (metri suplimentari) - (L-1) (DN32) | C37: ml | D37: 6 | E37: 277 | F37: =E37*D37 -> 1662 | H37: =G37*D37 -> 0
A38: 5.3 | B38: Cost standard (primul metru) - L (DN40) | C38: ml | D38: 0 | E38: 1440 | F38: =E38*D38 -> 0 | H38: =G38*D38 -> 0
A39: 5.4 | B39: Cost unitar (metri suplimentari) - (L-1) (DN40) | C39: ml | D39: 0 | E39: 279 | F39: =E39*D39 -> 0 | H39: =G39*D39 -> 0
A40: 6 | B40: Lucrari de foraj | F40: =SUM(F41:F47) -> 0 | H40: =SUM(H41:H47) -> 0
A41: 6.1 | B41: Scadere valoare sapatura aferenta forajului si gropilor de pozitie - (ml foraj + lungime groapa pozitie) x pret unitar/ml* (vezi nota nr. 4) | C41: ml | D41: =-(D42+D43+D44+D45+D46+D47) -> 0 | E41: 223 | F41: =D41*E41 -> 0 | H41: =F41 -> 0
...
