Workbook

Sheet Centralizator
A1: OSD MEGACONSTRUCT | H1: Anexa nr. 1
A3: PROCES CONCURENTIAL DE DESEMNARE A OE PENTRU LUCRARILE DE PROIECTARE SI EXECUTIE NECESARE RACORDARII
A4: COD LICITATIE: | B4: MEGA_GR_2026_072
A6: Judet | B6: Localitate | C6: Extinderi SD (buc.) | E6: Racord si/sau PRM/PM/PR (buc) | I6: Oferta
C7: L< 2500 ml | D7: L>2500 ml | E7: Racorduri | F7: PRM | G7: PM | H7: SRM
A8: Giurgiu | B8: Adunatii Copaceni | C8: 1 | E8: 1 | F8: 1 | I8: D_Detalii Executie racorduri-1
A9: Giurgiu | B9: Adunatii Copaceni | E9: 1 | F9: 1 | I9: D_Detalii Executie racorduri-2
A10: Giurgiu | B10: Comana | E10: 2 | F10: 2 | I10: D_Detalii Executie racorduri-2
A11: Total | C11: =SUM(C8:C10) -> 1 | D11: =SUM(D8:D10) -> 0 | E11: =SUM(E8:E10) -> 4 | F11: =SUM(F8:F10) -> 4 | G11: =SUM(G8:G10) -> 0 | H11: =SUM(H8:H10) -> 0 | K11: =SUM(F11:H11) -> 4
A13: Nota 1:
A14: -in aceasta procedura este inclusa o lucrare de extindere SD, 74ml, DN63mm cu 2 instalatii de racordare
A15: -in aceasta procedura este inclusa o lucrare de extindere SD, 26ml, DN63mm cu 1 instalatie de racordare
A17: Nota 2:
A18: - oferta se va face pentru ambele pachete din "D_Detalii Executie racorduri-1" si "D_Detalii Executie racorduri-2"
A19: - oferta "D_Detalii Executie racorduri-1" contine lucrarile de pentru doua instalatii de racordare, conform ATR specificat
A20: - oferta "D_Detalii Executie racorduri-2" contine lucrarile de pentru diferenta de 19 instalatii de racordare
A22: Mentiuni:
A23: - in oferta D_Detalii Executie racorduri-2" se va avea in vedere elemente noi: "Teu bransare electrofuziune GF stop gaz MOV ",
A24: cadru metalic model nou tip H (Anexa 28 din caietul de sarcini", obligatia utilizarii reiserelor lungi de minim 170cm.

Sheet A_Centralizarelucrari
A1: OSD MEGACONSTRUCT | H1: Anexa nr. 1
A3: FISA ACHIZITIE LUCRARI DE PROIECTARE SI EXECUTIE NECESARE RACORDARII
A5: UAT/JUDET: | C5: Giurgiu
A6: Localitati: | C6: Adunatii Copaceni ; Comana
A7: Cod procedura: | C7: =Centralizator!B4 -> MEGA_GR_2026_072
A8: Data publicare: | C8: 46295
A9: Data maxima depunere oferte: | C9: 46317
A11: A. CENTRALIZARE LUCRARI
A13: Extinderi SD (buc) | C13: Racorduri (buc) | D13: Posturi si statii de reglare-masurare (buc)
A14: L< 2500 ml | B14: L>2500 ml | C14: Racorduri | D14: PRM | E14: PM | F14: PR | G14: SRM | H14: SR
A15: =Centralizator!C11+Centralizator!D11 -> 1 | B15: =Centralizator!D11 -> 0 | C15: =Centralizator!E11 -> 4 | D15: =Centralizator!F11 -> 4 | E15: =Centralizator!G11 -> 0 | F15: =Centralizator!H11 -> 0 | G15: 0 | H15: 0
A17: A.1 Extinderi
A19: Extinderi SD <2500ml pe diametre Dn (mm) - buc
A20: 40 | B20: 63 | C20: 75 | D20: 90 | E20: 110 | F20: 125 | G20: 160 | H20: 180 | I20: 200 | J20: 250
B21: 1 | E21: 0 | F21: 0 | G21: 0 | H21: 0 | I21: 0 | J21: 0
A23: Lungime extinderi SD <2500 ml pe diametre Dn (mm) - L (ml)
A24: 40 | B24: 63 | C24: 75 | D24: 90 | E24: 110 | F24: 125 | G24: 160 | H24: 180 | I24: 200 | J24: 250
B25: 26 | E25: 0 | F25: 0 | G25: 0 | H25: 0 | I25: 0 | J25: 0
A27: Extinderi SD > 2500ml pe diametre Dn (mm) - buc
A28: 40 | B28: 63 | C28: 75 | D28: 90 | E28: 110 | F28: 125 | G28: 160 | H28: 180 | I28: 200 | J28: 250
A29: 0 | B29: 0 | C29: 0 | D29: 0 | E29: 0 | F29: 0 | G29: 0 | H29: 0 | I29: 0 | J29: 0
A31: Lungime extinderi SD >2500ml pe diametre Dn (mm) - L (ml)
A32: 40 | B32: 63 | C32: 75 | D32: 90 | E32: 110 | F32: 125 | G32: 160 | H32: 180 | I32: 200 | J32: 250
A33: 0 | B33: 0 | C33: 0 | D33: 0 | E33: 0 | F33: 0 | G33: 0 | H33: 0 | I33: 0 | J33: 0
A35: Lungime totala extinderi SD (ml) | C35: Lungime totala (ml)
A36: L< 2500 ml | B36: L>2500 ml
A37: =SUM(A25:K25) -> 26 | B37: =SUM(A33:J33) -> 0 | C37: =B37+A37 -> 26
A39: A.2 Racorduri
A41: Numar de racorduri pe Dn (mm) - buc | H41: Total bucati
A42: 32 | B42: 40 | C42: 63 | D42: 75 | E42: 90 | F42: 110 | G42: 125 | H42: =SUM(A43:G43) -> 4
A43: =Centralizator!E11 -> 4 | B43: 0 | C43: 0 | D43: 0 | E43: 0 | F43: 0 | G43: 0
A45: Detaliere racorduri Dn (mm) / L (ml) | H45: Total lungime
A46: 32 | B46: 40 | C46: 63 | D46: 75 | E46: 90 | F46: 110 | G46: 125 | H46: =SUM(A47:G47) -> 12.5
A47: =5.5+7 -> 12.5 | C47: 0 | D47: 0 | E47: 0 | F47: 0 | G47: 0
A49: B. VALOARE ESTIMATA LUCRARI (lei fara TVA)* | D49: =SUM(D50:D51) -> 13415.14
A50: B.1 - VALOARE ESTIMATA LUCRARI EXTINDERE SD: | D50: ='C_Detalii Executie extinderi'!F59 -> 4319.9905
A51: B.2 - VALOARE ESTIMATA LUCRARI RACORDARE: | D51: ='D_Detalii Executie racorduri-1'!F87+'D_Detalii Executie racordurI-2'!F96 -> 9095.15

Sheet C_Detalii Executie extinderi
H1: Anexa nr. 1.1 - Oferta economica extinderi SD
A2: UAT/JUDET: | B2: =A_Centralizarelucrari!C5 -> Giurgiu
A3: Localitati: | B3: =A_Centralizarelucrari!C6 -> Adunatii Copaceni ; Comana
A4: Cod procedura: | B4: =A_Centralizarelucrari!C7 -> MEGA_GR_2026_072
A5: Data publicare: | B5: =A_Centralizarelucrari!C8 -> 46295
A6: Data maxima depunere oferte: | B6: =A_Centralizarelucrari!C9 -> 46317
A8: C. DETALII EXECUTIE EXTINDERI
A9: Lungime totala (ml): | B9: 26
A10: Dn (mm): | B10: 63
A11: Nr. extinderi | B11: =D54 -> 1
A12: Nr crt | B12: Articol | C12: UM | D12: Cantitate totala | E12: Pret unitar oferit (lei/UM) | F12: Pret oferta economica OSD (lei) | G12: Pret ofertat OE (lei/U.M.) | H12: Valoare oferta OE (lei)
A13: 1 | B13: Total I - Sapatura/nisip | F13: 3053.35 | H13: =SUM(H14:H19) -> 0
A14: 1.1 | B14: Lucrari extindere conducta (diametru conducta de pana la 90mm inclusiv)-vezi nota 3 | C14: ml | D14: 26 | E14: 85.69 | F14: 2227.94 | H14: =G14*D14 -> 0
A15: 1.2 | B15: Pret nisip (diametru conducta de pana la 90mm inclusiv) | C15: ml | D15: 26 | E15: 23.76 | F15: 617.76 | H15: =G15*D15 -> 0
A16: 1.3 | B16: Lucrari extindere conducta (diametru conducta de la DN110 la DN225)-vezi nota 3 | C16: ml | D16: 0 | E16: 123.68 | F16: 0 | H16: =G16*D16 -> 0
A17: 1.4 | B17: Pret nisip (diametru conducta de peste 110mm) | C17: ml | D17: 0 | E17: 35.64 | F17: 0 | H17: =G17*D17 -> 0
A18: 1.5 | B18: Sapatura sondaje retele | C18: buc | D18: 1 | E18: 57.53 | F18: 57.53 | H18: =G18*D18 -> 0
A19: 1.6 | B19: Sapatura groapa de cuplare | C19: buc | D19: 1 | E19: 150.12 | F19: 150.12 | H19: =G19*D19 -> 0
A20: 2 | B20: Total II - Cheltuieli cu desfacere si aducere la stare initiala | F20: 0 | H20: =SUM(H21:H35) -> 0
A21: 2.1 | B21: Desfacere Pavele/Dale | C21: mp | D21: 0 | E21: 53.485714 | F21: 0 | H21: =G21*D21 -> 0
A22: 2.2 | B22: Refacere Pavele/Dale | C22: mp | D22: 0 | E22: 69.942857 | F22: 0 | H22: =G22*D22 -> 0
A23: 2.3 | B23: Taiere beton max 20cm | C23: ml | D23: 0 | E23: 16.2 | F23: 0 | H23: =G23*D23 -> 0
A24: 2.4 | B24: Desfacere Beton max 20cm | C24: mp | D24: 0 | E24: 53.485714 | F24: 0 | H24: =G24*D24 -> 0
A25: 2.5 | B25: Refacere Beton max 20cm | C25: mp | D25: 0 | E25: 110.05714 | F25: 0 | H25: =G25*D25 -> 0
A26: 2.6 | B26: Taiere asfalt carosabil | C26: ml | D26: 0 | E26: 16.2 | F26: 0 | H26: =G26*D26 -> 0
A27: 2.7 | B27: Desfacere Asfalt carosabil | C27: mp | D27: 0 | E27: 53.485714 | F27: 0 | H27: =G27*D27 -> 0
A28: 2.8 | B28: Refacere Asfalt carosabil | C28: mp | D28: 0 | E28: 264.34286 | F28: 0 | H28: =G28*D28 -> 0
A29: 2.9 | B29: Taiere asfalt trotuar | C29: ml | D29: 0 | E29: 16.2 | F29: 0 | H29: =G29*D29 -> 0
A30: 2.1 | B30: Desfacere Asfalt trotuar | C30: mp | D30: 0 | E30: 53.485714 | F30: 0 | H30: =G30*D30 -> 0
A31: 2.11 | B31: Refacere Asfalt trotuar | C31: mp | D31: 0 | E31: 211.88571 | F31: 0 | H31: =G31*D31 -> 0
A32: 2.12 | B32: Desfacere Piatra sparta/macadam | C32: mp | D32: 0 | E32: 26.742857 | F32: 0 | H32: =G32*D32 -> 0
... A35: 2.15 | B35: Strat suplimentar pietris/piatra sparta/macadam/balast (10cm) | C35: mp | D35: 0 | E35: 37.028571 | F35: 0 | H35: =G35*D35 -> 0
A36: 3 | B36: Total III - Lucrari de foraj | F36: 0 | H36: =SUM(H37:H43) -> 0
A37: 3.1 | B37: - Lucrari de foraj 110 mm (3'') | C37: ml | D37: 0 | E37: 161.5572 | F37: 0 | H37: =G37*D37 -> 0
A38: 3.2 | B38: - Lucrari de foraj 125 mm (4'') | C38: ml | D38: 0 | E38: 183.5892 | F38: 0 | H38: =G38*D38 -> 0
A39: 3.3 | B39: - Lucrari de foraj 168 mm (6'') | C39: ml | D39: 0 | E39: 246.7476 | F39: 0 | H39: =G39*D39 -> 0
A40: 3.4 | B40: - Lucrari de foraj 219 mm (8'') | C40: ml | D40: 0 | E40: 321.6456 | F40: 0 | H40: =G40*D40 -> 0
A41: 3.5 | B41: - Lucrari de foraj 273 mm (10'') | C41: ml | D41: 0 | E41: 400.9608 | F41: 0 | H41: =G41*D41 -> 0
A42: 3.6 | B42: - Lucrari de foraj 323 mm (12'') | C42: ml | D42: 0 | E42: 474.4008 | F42: 0 | H42: =G42*D42 -> 0
A43: 3.7 | B43: - Sapatura groapa de foraj (2mlx1mlx1ml) | C43: ml | D43: 0 | E43: 199.8 | F43: 0 | H43: =G43*D43 -> 0
A44: 4 | B44: Total IV - Manipulare si montaj tub de protectie | F44: 0 | H44: =SUM(H45:H50) -> 0
A45: 4.1 | B45: - Tub de protectie 90 mm | C45: ml | D45: 0 | E45: 24.8292 | F45: 0 | H45: =G45*D45 -> 0
A46: 4.2 | B46: - Tub de protectie 125 mm | C46: ml | D46: 0 | E46: 54.3456 | F46: 0 | H46: =G46*D46 -> 0
A47: 0 | B47: - Tub de protectie 160 mm | C47: ml | D47: 0 | E47: 59.724 | F47: 0 | H47: =G47*D47 -> 0
A48: 4.4 | B48: - Tub de protectie 200 mm | C48: ml | D48: 0 | E48: 65.9124 | F48: 0 | H48: =G48*D48 -> 0
A49: 4.5 | B49: - Tub de protectie OL 89 | C49: ml | D49: 0 | E49: 45.6624 | F49: 0 | H49: =G49*D49 -> 0
A50: 4.6 | B50: - Tub de protectie OL 114 | C50: ml | D50: 0 | E50: 55.6848 | F50: 0 | H50: =G50*D50 -> 0
A51: 5 | B51: Total V - Organizare de santier | F51: 91.6005 | H51: =H52 -> 0
A52: 5.1 | B52: Organizare de santier (se oferteaza procent de maxim 3% din valoarea lucrarilor ) - vezi nota 4 | C52: % | D52: 1 | E52: 0.03 | F52: 91.6005 | H52: =$G$52*(H13+H20+H36+H44) -> 0
A53: 6 | B53: Total VI - Total cheltuieli cu proiectarea si verificarea | F53: 1175.04 | H53: =SUM(H54:H58) -> 0
A54: 6.1 | B54: Intocmire carte tehnica a constructiei | C54: buc | D54: 1 | E54: 486 | F54: 486 | H54: =G54*D54 -> 0
A55: 6.2 | B55: Intocmire proiect tehnic pana la 100 ml (inclusiv) | C55: buc | D55: 1 | E55: 392.04 | F55: 392.04 | H55: =G55*D55 -> 0
A56: 6.3 | B56: Intocmire proiect tehnic peste 100 ml | C56: ml | D56: 0 | E56: 5.94 | F56: 0 | H56: =G56*D56 -> 0
A57: 6.4 | B57: Verificare proiect tehnic pana la 250 ml (inclusiv) | C57: buc | D57: 1 | E57: 297 | F57: 297 | H57: =G57*D57 -> 0
A58: 6.5 | B58: Verificare proiect tehnic peste 250 ml | C58: ml | D58: 0 | E58: 3.564 | F58: 0 | H58: =G58*D58 -> 0
A59: 7 | B59: TOTAL LUCRARI (I+II+III+IV+V+VI) | F59: 4319.9905 | H59: =H13+H20+H36+H51+H44+H53 -> 0
A61: 8 | B61: Termen de garanție pentru lucrările executate (G) ( exprimat in luni): | C61: ….......... Luni
B62: Notă: Termenul de garantie va fi exprimat in luni. Termenul de garantie pentru lucrarile executate este de minim 24 luni si trebuie sa fie acelasi pentru toate lucrarile executate in cadrul procedurii (instalatii de racordare si extinderi).
A63: 9 | B63: Termen de realizare (T) - (exprimat în zile calendaristice) - MAXIM 250 ZILE
B64: Notă: Termenul de realizare - reprezinta termenul necesar parcurgerii tuturor etapelor necesare racordarii, respectiv: intocmirea si depunerea documentatiei tehnice in vederea obtinerii CU/Acord (dupa caz), obtinerea CU/Acord, intocmirea si depunerea documentatiei pentru obtinerea avizelor (dupa caz), obtinerea avizelor, intocmirea si depunerea DTAC (dupa caz), obtinerea AC, anuntul de incepere lucrari UAT si ISC, executie lucrari, receptie si predare carte tehnica, sapatura/astupare groapa de cuplare si PIF | C64: …..... Zile
A66: NOTA 1: | B66: In vederea ofertarii, Operatorul economic va studia documentul "Anexa 1.1_descriere articole oferta"
A67: NOTA 2: | B67: Pentru lucrarile si/sau materialele pentru care cantitatea estimata este zero, OE va oferta pretul unitar.
A68: NOTA 3: | B68: Pretul ofertat la punctul 1.1 si 1.3 contine: manopera sapatura spatiu verde, asternere nisip (drenaj), lansare conducta in sant, imbinare prin sudura de tip electrofuziune(mufa, teu), astupare sant si compactare, evacuare surplus pamant si aducere la starea initiala
A69: NOTA 4: | B69: Valoarea componentei organizare de santier reprezinta maximum 3% din valoarea componentelor de la pct. 1, 2, 3, 4
A71: Operator Economic ofertant/Leader Asociere
A73: Denumire: __________________________________
A75: Semnatura si stampila___________________________
A78: Operator Economic asociat | C78: Operator Economic asociat
A80: Denumire: __________________________________ | C80: Denumire: __________________________________
A83: Semnatura si stampila___________________________ | C83: Semnatura si stampila___________________________

Sheet D_Detalii Executie racorduri-1
H1: Anexa nr. 1.2 - Oferta economica racorduri
A2: UAT/JUDET: | B2: =A_Centralizarelucrari!C5 -> Giurgiu
A3: Localitati: | B3: =A_Centralizarelucrari!C6 -> Adunatii Copaceni ; Comana
A4: Cod procedura: | B4: =A_Centralizarelucrari!C7 -> MEGA_GR_2026_072
A5: Data publicare: | B5: =A_Centralizarelucrari!C8 -> 46295
A6: Data maxima depunere oferte: | B6: =A_Centralizarelucrari!C9 -> 46317
A8: D. DETALII EXECUTIE RACORDURI
A9: Nr crt | B9: Denumire articol | C9: U.M. | D9: Cantitate | E9: Pret oferit de EC (lei/U.M.) | F9: Pret oferta economica OSD (lei) | G9: Pret ofertat OE (lei/U.M.) | H9: Valoare oferta OE (lei)
B10: A. Proiectare instalatii de racordare | F10: =F11+F17+F16 -> 688.57143 | H10: =H11+H17+H16 -> 0
A11: 1.1 | B11: Proiectare instalatii de racordare dintre care: | C11: buc | D11: =Centralizator!K11 -> 4 | F11: =SUM(F12:F15) -> 400.95238 | H11: =SUM(H12:H15) -> 0
A12: 1.1 | B12: racord si PRM/SRM | C12: buc | D12: 1 | E12: 400.95238 | F12: =E12*D12 -> 400.95238 | H12: =G12*D12 -> 0
A13: 1.2 | B13: racord si PR | C13: buc | D13: 0 | E13: 400.95238 | F13: =E13*D13 -> 0 | H13: =G13*D13 -> 0
A14: 1.3 | B14: PM/PRM/SM | C14: buc | D14: 0 | E14: 400.95238 | F14: =E14*D14 -> 0 | H14: =G14*D14 -> 0
A15: 1.4 | B15: PR din racord comun | C15: buc | D15: 0 | E15: 400.95238 | F15: =E15*D15 -> 0 | H15: =G15*D15 -> 0
A16: 1.2 | B16: Verificare proiecte tehnice | C16: buc | D16: =D11 -> 4 | E16: 61.904762 | F16: =E16*D16 -> 247.61905 | H16: =G16*D16 -> 0
A17: 2 | B17: Intocmirea, depunerea documentatiilor si obtinerea avizelor/acordurilor/autorizatiilor (fara costurile efective ale avizelor/acordurilor solicitate de catre UAT/detinatorii de utilitati). | C17: buc | D17: =D12+D13 -> 1 | E17: 40 | F17: =E17*D17 -> 40 | H17: =G17*D17 -> 0
B18: B. Executie instalatie de racordare | F18: =F19+F33+F35+F40+F44+F48+F62 -> 2176.4286 | H18: =H19+H33+H35+H40+H44+H48+H62 -> -891.42857
A19: 3 | B19: Teuri de bransament pentru DN32 mm din PE, dintre care: | C19: buc | D19: =SUM(D20:D32) -> 1 | F19: =SUM(F20:F32) -> 0 | H19: =SUM(H20:H32) -> 0
A20: 3.1 | B20: Teu bransament 32 mm (valoare inclusa in primul metru) | C20: buc | D20: 0 | E20: 0 | F20: =E20*D20 -> 0 | G20: 0 | H20: =G20*D20 -> 0
A21: 3.2 | B21: Teu bransament 40 mm (se coteaza diferenta de pret dintre Teu 40/32 si Teu 63/32) | C21: buc | D21: 0 | E21: 6.3498864 | F21: =E21*D21 -> 0 | H21: =G21*D21 -> 0
A22: 3.3 | B22: Teu bransament 63 mm (valoare inclusa in primul metru) | C22: buc | D22: 1 | E22: 0 | F22: =E22*D22 -> 0 | G22: 0 | H22: =G22*D22 -> 0
A23: 3.4 | B23: Teu bransament 75 mm (se coteaza diferenta de pret dintre Teu 75/32 si Teu 63/32) | C23: buc | D23: 0 | E23: 14.232504 | F23: =E23*D23 -> 0 | H23: =G23*D23 -> 0
A24: 3.5 | B24: Teu bransament 90 mm (se coteaza diferenta de pret dintre Teu 90/32 si Teu 63/32) | C24: buc | D24: 0 | E24: 17.79063 | F24: =E24*D24 -> 0 | H24: =G24*D24 -> 0
A25: 3.6 | B25: Teu bransament 110 mm (se coteaza diferenta de pret dintre Teu 110/32 si Teu 63/32) | C25: buc | D25: 0 | E25: 16.969524 | F25: =E25*D25 -> 0 | H25: =G25*D25 -> 0
A26: 3.7 | B26: Teu bransament 125 mm (se coteaza diferenta de pret dintre Teu 125/32 si Teu 63/32) | C26: buc | D26: 0 | E26: 47.788369 | F26: =E26*D26 -> 0 | H26: =G26*D26 -> 0
A27: 3.8 | B27: Teu bransament 160 mm (se coteaza diferenta de pret dintre Teu 160/32 si Teu 63/32) | C27: buc | D27: 0 | E27: 55.287804 | F27: =E27*D27 -> 0 | H27: =G27*D27 -> 0
A28: 3.9 | B28: Teu bransament 180 mm (se coteaza diferenta de pret dintre Teu 180/32 si Teu 63/32) | C28: buc | D28: 0 | E28: 64.26523 | F28: =E28*D28 -> 0 | H28: =G28*D28 -> 0
A29: 3.1 | B29: Teu bransament 200 mm (se coteaza diferenta de pret dintre Teu 200/32 si Teu 63/32) | C29: buc | D29: 0 | E29: 65.68848 | F29: =E29*D29 -> 0 | H29: =G29*D29 -> 0
A30: 3.1 | B30: Teu bransament 225 mm (se coteaza diferenta de pret dintre Teu 225/32 si Teu 63/32) | C30: buc | D30: 0 | E30: 230.73079 | F30: =E30*D30 -> 0 | H30: =G30*D30 -> 0
A31: 3.1 | B31: Teu bransament 250 mm (se coteaza diferenta de pret dintre Teu 250/32 si Teu 63/32) | C31: buc | D31: 0 | E31: 325.81486 | F31: =E31*D31 -> 0 | H31: =G31*D31 -> 0
A32: 3.12 | B32: Teu bransament 280 mm (se coteaza diferenta de pret dintre Teu 280/32 si Teu 63/32) | C32: buc | D32: 0 | E32: 171.33745 | F32: =E32*D32 -> 0 | H32: =G32*D32 -> 0
A33: 4 | B33: Teuri de bransament pentru DN40 mm din PE, dintre care: | F33: =F34 -> 0 | H33: =H34 -> 0
A34: 4.1 | B34: Teu bransament 160/40mm (se coteaza diferenta de pret dintre Teu 160/40 si Teu 63/32) | C34: buc | D34: 0 | F34: =D34*74.78 -> 0 | H34: =G34*D34 -> 0
A35: 5 | B35: Cost executie propriuzisa | C35: ml | D35: =A_Centralizarelucrari!A47+A_Centralizarelucrari!B47+A_Centralizarelucrari!C47 -> 12.5 | F35: =SUM(F36:F39) -> 1947.1429 | H35: =SUM(H36:H39) -> 0
A36: 5.1 | B36: Cost standard (primul metru) - L (DN32) | C36: ml | D36: =D19-D38 -> 1 | E36: 948.57143 | F36: =E36*D36 -> 948.57143 | H36: =G36*D36 -> 0
A37: 5.2 | B37: Cost unitar (metri suplimentari) - (L-1) (DN32) | C37: ml | D37: 4.5 | E37: 221.90476 | F37: =E37*D37 -> 998.57143 | H37: =G37*D37 -> 0
A38: 5.3 | B38: Cost standard (primul metru) - L (DN40) | C38: ml | D38: 0 | E38: 1053.3333 | F38: =E38*D38 -> 0 | H38: =G38*D38 -> 0
A39: 5.4 | B39: Cost unitar (metri suplimentari) - (L-1) (DN40) | C39: ml | D39: 0 | E39: 225.71429 | F39: =E39*D39 -> 0 | H39: =G39*D39 -> 0
A40: 6 | B40: Lucrari de foraj | F40: =SUM(F41:F43) -> -2.3809524 | H40: =SUM(H41:H43) -> -891.42857
A41: 6.1 | B41: Scadere valoare sapatura aferenta forajului si gropilor de pozitie - (ml foraj + lungime groapa pozitie) x pret unitar/ml* (vezi nota nr. 4) | C41: ml | D41: =-(D42+D43) -> -4.5 | E41: 198.09524 | F41: =D41*E41 -> -891.42857 | H41: =F41 -> -891.42857
A42: 6.2 | B42: Forajul, procurarea si montajul tubului de protectie si/sau a tevii pentru diametrele pana la 160 mm PE sau Ø 6" pentru OL | C42: ml | D42: 3.5 | E42: 199.04762 | F42: =E42*D42 -> 696.66667 | H42: =G42*D42 -> 0
A43: 6.3 | B43: Gropi de pozitie foraj (dimensiune 2mlx1mlx1ml) | C43: buc | D43: 1 | E43: 192.38095 | F43: =E43*D43 -> 192.38095 | H43: =G43*D43 -> 0
A44: 7 | B44: Procurare si montaj tub de protectie | F44: =SUM(F45:F47) -> 20.952381 | H44: =SUM(H45:H47) -> 0
A45: 7.1 | B45: Procurare si montaj tub protectie PE90 mm (utilizare pentru protectie in sant deschis) | C45: ml | D45: 0.5 | E45: 41.904762 | F45: =E45*D45 -> 20.952381 | H45: =G45*D45 -> 0
A46: 7.2 | B46: Procurare si montaj tub protectie PE110 mm (utilizare pentru protectie in sant deschis) | C46: ml | D46: 0 | E46: 52.380952 | F46: =E46*D46 -> 0 | H46: =G46*D46 -> 0
A47: 7.3 | B47: Procurare si montaj protectie OL 3'' (utilizare pentru protectie in sant deschis) | C47: ml | D47: 0 | E47: 110.47619 | F47: =E47*D47 -> 0 | H47: =G47*D47 -> 0
A48: 8 | B48: Cost desfacere si refacere pavaje | F48: =F49+F55 -> 0 | H48: =H49+H55 -> 0
A49: 8.1 | B49: Lucrări desfacere terasamente | F49: =SUM(F50:F54) -> 0 | H49: =SUM(H50:H54) -> 0
A50: 8.1.1 | B50: Suprafete balast, piatra sparta si macadam | C50: mp | E50: 29.52 | F50: =E50*D50 -> 0 | H50: =G50*D50 -> 0 | J50: 29.52381
A51: 8.1.2 | B51: Suprafete din piatra cubica, pavele, dale | C51: mp | D51: 0 | E51: 59.76 | F51: =E51*D51 -> 0 | H51: =G51*D51 -> 0 | J51: 49.52381
A52: 8.1.3 | B52: Taiere asfalt/beton | C52: ml | D52: 0 | E52: 15 | F52: =E52*D52 -> 0 | H52: =G52*D52 -> 0 | J52: 15
A53: 8.1.4 | B53: Suprafete de beton/asfalt | C53: mp | D53: 0 | E53: 59.76 | F53: =E53*D53 -> 0 | H53: =G53*D53 -> 0 | J53: 49.52381
A54: 8.1.5 | B54: Piconare roca | C54: mp | D54: 0 | E54: 83.809524 | F54: =E54*D54 -> 0 | H54: =G54*D54 -> 0 | J54: 83.809524
A55: 8.2 | B55: Lucrări refacere terasamente | F55: =SUM(F56:F61) -> 0 | H55: =SUM(H56:H61) -> 0
A56: 8.2.1 | B56: Suprafete balast, piatra sparta si macadam | C56: mp | E56: 29.52381 | F56: =E56*D56 -> 0 | H56: =G56*D56 -> 0 | J56: 24.76
A57: 8.2.2 | B57: Suprafete din piatra cubica, pavele, dale | C57: mp | D57: 0 | E57: 74.285714 | F57: =E57*D57 -> 0 | H57: =G57*D57 -> 0 | J57: 64.761905
A58: 8.2.3 | B58: Suprafete de beton | C58: mp | D58: 0 | E58: 117.14286 | F58: =E58*D58 -> 0 | H58: =G58*D58 -> 0 | J58: 101.90476
A59: 8.2.4 | B59: Suprafete de asfalt carosabil | C59: mp | D59: 0 | E59: 279.04762 | F59: =E59*D59 -> 0 | H59: =G59*D59 -> 0 | J59: 244.7619
A60: 8.2.5 | B60: Suprafete de asfalt trotuar | C60: mp | E60: 224.7619 | F60: =E60*D60 -> 0 | H60: =G60*D60 -> 0 | J60: 196.19048
A61: 8.2.6 | B61: Asternere strat suplimentar pietris/piatra sparta/macadam/balast (max 10 cm) | C61: mp | E61: 40.952381 | F61: =E61*D61 -> 0 | H61: =G61*D61 -> 0 | J61: 34.29
A62: 9 | B62: Manopera montaj Post de Reglare Masurare/Post Reglare/Post masurare si materiale marunte | D62: =SUM(D63:D81) -> 1 | F62: =SUM(F63:F85) -> 210.71429 | H62: =SUM(H63:H85) -> 0
A63: 9.1 | B63: - Firida echipata cu regulator de 10 m3/h, 25mbar - placa G4 - HFP606025-G4-10 | C63: buc | D63: 1 | E63: 125 | F63: =E63*D63 -> 125 | H63: =G63*D63 -> 0
A64: 9.2 | B64: - Firida echipata cu regulator de 25 m3/h, 25mbar - placa G4 - HFP606025-G4-25 DUBLA | C64: buc | D64: 0 | E64: 128 | F64: =E64*D64 -> 0 | H64: =G64*D64 -> 0
A65: 9.3 | B65: - Firida echipata cu regulator de 10 m3/h, 25mbar - placa G6 - HFP606025-G6-10 | C65: buc | D65: 0 | E65: 125 | F65: =E65*D65 -> 0 | H65: =G65*D65 -> 0
A66: 9.4 | B66: - Firida echipata cu regulator de 25 m3/h, 25mbar - placa G6 - HFP606025-G6-25 | C66: buc | D66: 0 | E66: 125 | F66: =E66*D66 -> 0 | H66: =G66*D66 -> 0
A67: 9.5 | B67: - Firida echipata cu regulator de 25 m3/h, 25mbar - bozuri G10 - HFP606025-G10-25 | C67: buc | D67: 0 | E67: 125 | F67: =E67*D67 -> 0 | H67: =G67*D67 -> 0
A68: 9.6 | B68: - Firida echipata cu regulator de 25 m3/h, 25mbar - bozuri G16 - HFM705040-G16-25 | C68: buc | D68: 0 | E68: 131 | F68: =E68*D68 -> 0 | H68: =G68*D68 -> 0
A69: 9.7 | B69: - Firida echipata cu regulator de 50 m3/h, 25mbar - bozuri G25 - HFM807050-G25-50 | C69: buc | D69: 0 | E69: 318 | F69: =E69*D69 -> 0 | H69: =G69*D69 -> 0
A70: 9.8 | B70: - Firida echipata cu regulator de 75 m3/h, 25mbar - flanse CM G40 - HFM1208060-G40-75 | C70: buc | D70: 0 | E70: 346 | F70: =E70*D70 -> 0 | H70: =G70*D70 -> 0
A71: 9.9 | B71: - Firida echipata cu regulator de 100 m3/h,25mbar - flanse CM G65 - HFM1208060-G65-100-25mbar | C71: buc | E71: 380 | F71: =E71*D71 -> 0 | H71: =G71*D71 -> 0
A72: 9.10 | B72: - Firida fara regulator - placa G4 - PM606025-G4 | C72: buc | D72: 0 | E72: 129 | F72: =E72*D72 -> 0 | H72: =G72*D72 -> 0
A73: 9.11 | B73: - Firida fara regulator - placa G6 - PM606025-G6 | C73: buc | D73: 0 | E73: 130 | F73: =E73*D73 -> 0 | H73: =G73*D73 -> 0
A74: 9.12 | B74: - Firida fara regulator - bozuri G10 - PM606025-G10 | C74: buc | D74: 0 | E74: 130 | F74: =E74*D74 -> 0 | H74: =G74*D74 -> 0
A75: 9.13 | B75: - Firida fara regulator - bozuri G16 - PM705040-G16 | C75: buc | E75: 134 | F75: =E75*D75 -> 0 | H75: =G75*D75 -> 0
A76: 9.14 | B76: - Firida fara regulator - bozuri G25 - PM705040-G25 | C76: buc | E76: 258 | F76: =E76*D76 -> 0 | H76: =G76*D76 -> 0
A77: 9.15 | B77: - Firida fara regulator - flanse CM G40 - PM1208060-G40 | C77: buc | D77: 0 | E77: 275 | F77: =E77*D77 -> 0 | H77: =G77*D77 -> 0
A78: 9.16 | B78: - Firida 60x60x25 echipata cu regulator de 50 m3/h, 25mbar - PR606025-50 | C78: buc | D78: 0 | E78: 129 | F78: =E78*D78 -> 0 | H78: =G78*D78 -> 0
A79: 9.17 | B79: - Firida 60x60x25 echipata cu regulator de 75 m3/h, 25mbar - PR606025-75 | C79: buc | D79: 0 | E79: 145 | F79: =E79*D79 -> 0 | H79: =G79*D79 -> 0
A80: 9.18 | B80: - Firida 60x60x25 echipata cu regulator de 100 m3/h, 25mbar - PR606025-100 | C80: buc | D80: 0 | E80: 284 | F80: =E80*D80 -> 0 | H80: =G80*D80 -> 0
A81: 9.19 | B81: - Firida 60x60x25 echipata cu regulator de 150 m3/h, 25mbar - PR606025-150 | C81: buc | D81: 0 | E81: 299 | F81: =E81*D81 -> 0 | H81: =G81*D81 -> 0
A82: 9.20 | B82: Teava trasa 1 “X 3,2 | C82: ml | D82: 0 | E82: 30.811 | F82: =E82*D82 -> 0 | H82: =G82*D82 -> 0
A83: 9.21 | B83: Stalpi sustinere (1.5ml/buc) | C83: buc | D83: 2 | E83: 42.857143 | F83: =E83*D83 -> 85.714286 | H83: =G83*D83 -> 0
A84: 9.22 | B84: Demontare post HFP606025-G4-10 | C84: buc | D84: 0 | E84: 82 | F84: =E84*D84 -> 0 | H84: =G84*D84 -> 0
A85: 9.23 | B85: Demontare post HFP606025-G4-25 DUBLA | C85: buc | D85: 0 | E85: 86 | F85: =E85*D85 -> 0 | H85: =G85*D85 -> 0
B87: TOTAL VALOARE LUCRARI RACORDARE (A+B) | F87: =F10+F18 -> 2865 | H87: =H10+H18 -> -891.42857
A89: 10 | B89: Termen de garanție pentru lucrările executate (G) ( exprimat in luni): | C89: ….......... Luni
B90: Notă: Termenul de garantie va fi exprimat in luni. Termenul de garantie pentru lucrarile executate este de minim 24 luni si trebuie sa fie acelasi pentru toate lucrarile executate in cadrul procedurii (instalatii de racordare si extinderi).
A91: 11 | B91: Termen de realizare (T) - (exprimat în zile calendaristice) - MAXIM 140 ZILE
B92: Notă: Termenul de realizare - reprezinta termenul necesar parcurgerii tuturor etapelor necesare racordarii, respectiv: intocmirea si depunerea documentatiei tehnice in vederea obtinerii CU/Acord (dupa caz), obtinerea CU/Acord, intocmirea si depunerea documentatiei pentru obtinerea avizelor (dupa caz), obtinerea avizelor, intocmirea si depunerea DTAC (dupa caz), obtinerea AC, anuntul de incepere lucrari UAT si ISC, executie lucrari, receptie si predare carte tehnica, sapatura/astupare groapa de cuplare si PIF | C92: …..... Zile
A94: NOTA 1: | B94: In vederea ofertarii, Operatorul economic va studia documentul "Anexa 1.1_descriere articole oferta"
A95: NOTA 2: | B95: Pentru lucrarile si/sau materialele pentru care cantitatea estimata este zero, OE va oferta pretul unitar.
A96: NOTA 3: | B96: In cazul in care executia racordului presupune lucrari de foraj, din pretul unitar de decontare al acestuia se va scadea pretul sapaturii, raportat la lungimea forajului si a gropilor de pozitie
A98: Operator Economic ofertant/Leader Asociere
A100: Denumire: __________________________________
A102: Semnatura si stampila___________________________
A105: Operator Economic asociat | C105: Operator Economic asociat
A107: Denumire: __________________________________ | C107: Denumire: __________________________________
A110: Semnatura si stampila___________________________ | C110: Semnatura si stampila___________________________

Sheet D_Detalii Executie racordurI-2
H1: Anexa nr. 1.2 - Oferta economica racorduri
A2: UAT/JUDET: | B2: =A_Centralizarelucrari!C5 -> Giurgiu | F2: - TARIFE 2
A3: Localitati: | B3: =A_Centralizarelucrari!C6 -> Adunatii Copaceni ; Comana
A4: Cod procedura: | B4: =A_Centralizarelucrari!C7 -> MEGA_GR_2026_072
A5: Data publicare: | B5: =A_Centralizarelucrari!C8 -> 46295
A6: Data maxima depunere oferte: | B6: =A_Centralizarelucrari!C9 -> 46317
A8: D. DETALII EXECUTIE RACORDURI
A9: Nr crt | B9: Denumire articol | C9: U.M. | D9: Cantitate | E9: Pret oferit de EC (lei/U.M.) | F9: Pret oferta economica OSD (lei) | G9: Pret ofertat OE (lei/U.M.) | H9: Valoare oferta OE (lei)
B10: A. Proiectare instalatii de racordare | F10: =F11+F17+F16 -> 1743 | H10: =H11+H17+H16 -> 0
A11: 1.1 | B11: Proiectare instalatii de racordare dintre care: | C11: buc | D11: =SUM(D12:D15) -> 3 | F11: =SUM(F12:F15) -> 1371 | H11: =SUM(H12:H15) -> 0
A12: 1.1 | B12: racord si PRM/SRM | C12: buc | D12: 3 | E12: 457 | F12: =E12*D12 -> 1371 | H12: =G12*D12 -> 0
A13: 1.2 | B13: racord si PR | C13: buc | D13: 0 | E13: 457 | F13: =E13*D13 -> 0 | H13: =G13*D13 -> 0
A14: 1.3 | B14: PM/PRM/SM | C14: buc | D14: 0 | E14: 457 | F14: =E14*D14 -> 0 | H14: =G14*D14 -> 0
A15: 1.4 | B15: PR din racord comun | C15: buc | D15: 0 | E15: 457 | F15: =E15*D15 -> 0 | H15: =G15*D15 -> 0
A16: 1.2 | B16: Verificare proiecte tehnice | C16: buc | D16: =D11 -> 3 | E16: 77 | F16: =E16*D16 -> 231 | H16: =G16*D16 -> 0
A17: 2 | B17: Intocmirea, depunerea documentatiilor si obtinerea avizelor/acordurilor/autorizatiilor (nu include costurile efective ale avizelor/acordurilor solicitate de catre UAT/detinatorii de utilitati) | C17: buc | D17: =D12+D13 -> 3 | E17: 47 | F17: =E17*D17 -> 141 | H17: =G17*D17 -> 0
B18: B. Executie instalatie de racordare | F18: =F19+F33+F35+F40+F48+F56+F70 -> 4487.15 | H18: =H19+H33+H35+H40+H48+H56+H70 -> 0
A19: 3 | B19: Teuri de bransament pentru DN32 mm din PE, dintre care: | C19: buc | D19: =SUM(D20:D32) -> 3 | F19: =SUM(F20:F32) -> 0 | H19: =SUM(H20:H32) -> 0
A20: 3.1 | B20: Teu bransare electrofuziune GF stop gaz MOV 40/32 - se scade din costul standard | C20: buc | D20: 0 | E20: -33 | F20: =E20*D20 -> 0 | H20: =G20*D20 -> 0
A21: 3.2 | B21: Teu bransare electrofuziune GF stop gaz MOV 63/32 - inclus in costul standard | C21: buc | D21: 3 | E21: 0 | F21: =E21*D21 -> 0 | G21: 0 | H21: =G21*D21 -> 0
A22: 3.3 | B22: Teu bransare electrofuziune GF stop gaz MOV 75/32 - se deconteaza suplimentar | C22: buc | D22: 0 | E22: 61 | F22: =E22*D22 -> 0 | H22: =G22*D22 -> 0
A23: 3.4 | B23: Teu bransare electrofuziune GF stop gaz MOV 90/32 - se deconteaza suplimentar | C23: buc | D23: 0 | E23: 9 | F23: =E23*D23 -> 0 | H23: =G23*D23 -> 0
A24: 3.5 | B24: Teu bransare electrofuziune GF stop gaz MOV 110/32 - se deconteaza suplimentar | C24: buc | D24: 0 | E24: 38 | F24: =E24*D24 -> 0 | H24: =G24*D24 -> 0
A25: 3.6 | B25: Teu bransare electrofuziune GF stop gaz MOV 125/32 - se deconteaza suplimentar | C25: buc | D25: 0 | E25: 18 | F25: =E25*D25 -> 0 | H25: =G25*D25 -> 0
A26: 3.7 | B26: Teu bransare electrofuziune GF stop gaz MOV 140/32 - se deconteaza suplimentar | C26: buc | D26: 0 | E26: 76 | F26: =E26*D26 -> 0 | H26: =G26*D26 -> 0
A27: 3.8 | B27: Teu bransare electrofuziune GF stop gaz MOV 160/32 - se deconteaza suplimentar | C27: buc | D27: 0 | E27: 87 | F27: =E27*D27 -> 0 | H27: =G27*D27 -> 0
A28: 3.9 | B28: Teu bransare electrofuziune GF stop gaz MOV 180/32 - se deconteaza suplimentar | C28: buc | D28: 0 | E28: 94 | F28: =E28*D28 -> 0 | H28: =G28*D28 -> 0
A29: 3.1 | B29: Teu bransare electrofuziune GF stop gaz MOV 200/32 - se deconteaza suplimentar | C29: buc | D29: 0 | E29: 98 | F29: =E29*D29 -> 0 | H29: =G29*D29 -> 0
A30: 3.1 | B30: Teu bransare electrofuziune GF stop gaz MOV225/32 - se deconteaza suplimentar | C30: buc | D30: 0 | E30: 98 | F30: =E30*D30 -> 0 | H30: =G30*D30 -> 0
A31: 3.1 | B31: Teu bransare electrofuziune GF stop gaz MOV 250/32 - se deconteaza suplimentar | C31: buc | D31: 0 | E31: 153 | F31: =E31*D31 -> 0 | H31: =G31*D31 -> 0
A32: 3.12 | B32: Teu bransare electrofuziune GF stop gaz MOV 315/32 - se deconteaza suplimentar | C32: buc | D32: 0 | E32: 791 | F32: =E32*D32 -> 0 | H32: =G32*D32 -> 0
A33: 4 | B33: Teuri de bransament pentru DN40 mm din PE, dintre care: | F33: =F34 -> 0 | H33: =H34 -> 0
A34: 4.1 | B34: Teu bransament 160/40mm (se coteaza diferenta de pret dintre Teu 160/40 si Teu 63/32) | C34: buc | D34: 0 | F34: =D34*74.78 -> 0 | H34: =G34*D34 -> 0
A35: 5 | B35: Cost executie propriuzisa | C35: ml | D35: =D36+D37 -> 7 | F35: =SUM(F36:F39) -> 2978 | H35: =SUM(H36:H39) -> 0
A36: 5.1 | B36: Cost standard (primul metru) - L (DN32) | C36: ml | D36: 1 | E36: 1316 | F36: =E36*D36 -> 1316 | H36: =G36*D36 -> 0
A37: 5.2 | B37: Cost unitar (metri suplimentari) - (L-1) (DN32) | C37: ml | D37: 6 | E37: 277 | F37: =E37*D37 -> 1662 | H37: =G37*D37 -> 0
A38: 5.3 | B38: Cost standard (primul metru) - L (DN40) | C38: ml | D38: 0 | E38: 1440 | F38: =E38*D38 -> 0 | H38: =G38*D38 -> 0
A39: 5.4 | B39: Cost unitar (metri suplimentari) - (L-1) (DN40) | C39: ml | D39: 0 | E39: 279 | F39: =E39*D39 -> 0 | H39: =G39*D39 -> 0
A40: 6 | B40: Lucrari de foraj | F40: =SUM(F41:F47) -> 0 | H40: =SUM(H41:H47) -> 0
A41: 6.1 | B41: Scadere valoare sapatura aferenta forajului si gropilor de pozitie - (ml foraj + lungime groapa pozitie) x pret unitar/ml* (vezi nota nr. 4) | C41: ml | D41: =-(D42+D43+D44+D45+D46+D47) -> 0 | E41: 223 | F41: =D41*E41 -> 0 | H41: =F41 -> 0
A42: 6.3 | B42: Forajul, procurarea si montajul tubului de protectie si/sau a tevii pentru diametrul de DN PE110mm | C42: ml | D42: 0 | E42: 170 | F42: =E42*D42 -> 0 | H42: =G42*D42 -> 0
A43: 6.4 | B43: Forajul, procurarea si montajul tubului de protectie si/sau a tevii pentru diametrul de DN PE125mm | C43: ml | D43: 0 | E43: 180 | F43: =E43*D43 -> 0 | H43: =G43*D43 -> 0
A44: 6.5 | B44: Forajul, procurarea si montajul tubului de protectie si/sau a tevii pentru diametrul de DN OL 3'' | C44: ml | D44: 0 | E44: 209 | F44: =E44*D44 -> 0 | H44: =G44*D44 -> 0
A45: 6.6 | B45: Forajul, procurarea si montajul tubului de protectie si/sau a tevii pentru diametrul de DN OL 4'' | C45: ml | D45: 0 | E45: 229 | F45: =E45*D45 -> 0 | H45: =G45*D45 -> 0
A46: 6.7 | B46: Forajul, procurarea si montajul tubului de protectie si/sau a tevii pentru diametrul de DN OL 6'' | C46: ml | D46: 0 | E46: 334 | F46: =E46*D46 -> 0 | H46: =G46*D46 -> 0
A47: 6.8 | B47: Gropi de pozitie foraj (dimensiune 2mlx1mlx1ml) | C47: buc | D47: 0 | E47: 235 | F47: =E47*D47 -> 0 | H47: =G47*D47 -> 0
A48: 7 | B48: Procurare si montaj tub de protectie | F48: =SUM(F49:F55) -> 0 | H48: =SUM(H49:H55) -> 0
A49: 7.1 | B49: Procurare si montaj tub protectie PE90 mm (utilizare pentru protectie in sant deschis) | C49: ml | D49: 0 | E49: 56 | F49: =E49*D49 -> 0 | H49: =G49*D49 -> 0
A50: 7.2 | B50: Procurare si montaj tub protectie PE110 mm (utilizare pentru protectie in sant deschis) | C50: ml | D50: 0 | E50: 71 | F50: =E50*D50 -> 0 | H50: =G50*D50 -> 0
A51: 7.3 | B51: Procurare si montaj tub protectie PE125 mm (utilizare pentru protectie in sant deschis) | C51: ml | D51: 0 | E51: 109 | F51: =E51*D51 -> 0 | H51: =G51*D51 -> 0
A52: 7.4 | B52: Procurare si montaj tub protectie PE160 mm (utilizare pentru protectie in sant deschis) | C52: ml | D52: 0 | E52: 136 | F52: =E52*D52 -> 0 | H52: =G52*D52 -> 0
A53: 7.5 | B53: Procurare si montaj tub protectie PE200 mm (utilizare pentru protectie in sant deschis) | C53: ml | D53: 0 | E53: 193 | F53: =E53*D53 -> 0 | H53: =G53*D53 -> 0
A54: 7.6 | B54: Procurare si montaj protectie OL 3'' (utilizare pentru protectie in sant deschis) | C54: ml | D54: 0 | E54: 100 | F54: =E54*D54 -> 0 | H54: =G54*D54 -> 0
A55: 7.7 | B55: Procurare si montaj protectie OL 4'' (utilizare pentru protectie in sant deschis) | C55: ml | D55: 0 | E55: 125 | F55: =E55*D55 -> 0 | H55: =G55*D55 -> 0
A56: 8 | B56: Cost desfacere si refacere pavaje | F56: =F57+F63 -> 0 | H56: =H57+H63 -> 0
A57: 8.1 | B57: Lucrări desfacere terasamente | F57: =SUM(F58:F62) -> 0 | H57: =SUM(H58:H62) -> 0
A58: 8.1.1 | B58: Suprafete balast, piatra sparta si macadam | C58: mp | D58: 0 | E58: 35 | F58: =E58*D58 -> 0 | H58: =G58*D58 -> 0 | J58: 29.52381
A59: 8.1.2 | B59: Suprafete din piatra cubica, pavele, dale | C59: mp | D59: 0 | E59: 70 | F59: =E59*D59 -> 0 | H59: =G59*D59 -> 0 | J59: 49.52381
A60: 8.1.3 | B60: Taiere asfalt/beton | C60: ml | D60: 0 | E60: 35 | F60: =E60*D60 -> 0 | H60: =G60*D60 -> 0 | J60: 15
A61: 8.1.4 | B61: Suprafete de beton/asfalt | C61: mp | D61: 0 | E61: 70 | F61: =E61*D61 -> 0 | H61: =G61*D61 -> 0 | J61: 49.52381
A62: 8.1.5 | B62: Piconare roca | C62: mp | D62: 0 | E62: 84 | F62: =E62*D62 -> 0 | H62: =G62*D62 -> 0 | J62: 83.809524
A63: 8.2 | B63: Lucrări refacere terasamente | D63: 0 | F63: =SUM(F64:F69) -> 0 | H63: =SUM(H64:H69) -> 0
A64: 8.2.1 | B64: Suprafete balast, piatra sparta si macadam | C64: mp | D64: 0 | E64: 35 | F64: =E64*D64 -> 0 | H64: =G64*D64 -> 0 | J64: 24.76
A65: 8.2.2 | B65: Suprafete din piatra cubica, pavele, dale | C65: mp | D65: 0 | E65: 87 | F65: =E65*D65 -> 0 | H65: =G65*D65 -> 0 | J65: 64.761905
A66: 8.2.3 | B66: Suprafete de beton | C66: mp | D66: 0 | E66: 137 | F66: =E66*D66 -> 0 | H66: =G66*D66 -> 0 | J66: 101.90476
A67: 8.2.4 | B67: Suprafete de asfalt carosabil | C67: mp | D67: 0 | E67: 328 | F67: =E67*D67 -> 0 | H67: =G67*D67 -> 0 | J67: 244.7619
A68: 8.2.5 | B68: Suprafete de asfalt trotuar | C68: mp | D68: 0 | E68: 263 | F68: =E68*D68 -> 0 | H68: =G68*D68 -> 0 | J68: 196.19048
A69: 8.2.6 | B69: Asternere strat suplimentar pietris/piatra sparta/macadam/balast (max 10 cm) | C69: mp | D69: 0 | E69: 41 | F69: =E69*D69 -> 0 | H69: =G69*D69 -> 0 | J69: 34.29
A70: 9 | B70: Manopera montaj Post de Reglare Masurare/Post Reglare/Post masurare si materiale marunte | D70: =SUM(D71:D90) -> 3 | F70: =SUM(F71:F94) -> 1509.15 | H70: =SUM(H71:H94) -> 0
A71: 9.1 | B71: - Firida echipata cu regulator de 10 m3/h, 25mbar - placa G4 - HFP606025-G4-10 | C71: buc | D71: 2 | E71: 142.91 | F71: =E71*D71 -> 285.82 | H71: =G71*D71 -> 0
A72: 9.2 | B72: - Firida echipata cu regulator de 25 m3/h, 25mbar - placa G4 - HFP606025-G4-25 DUBLA | C72: buc | D72: 0 | E72: 146.71 | F72: =E72*D72 -> 0 | H72: =G72*D72 -> 0
A73: 9.3 | B73: - Firida echipata cu regulator de 10 m3/h, 25mbar - placa G6 - HFP606025-G6-10 | C73: buc | D73: 1 | E73: 143.33 | F73: =E73*D73 -> 143.33 | H73: =G73*D73 -> 0
A74: 9.4 | B74: - Firida echipata cu regulator de 25 m3/h, 25mbar - placa G6 - HFP606025-G6-25 | C74: buc | D74: 0 | E74: 143.44 | F74: =E74*D74 -> 0 | H74: =G74*D74 -> 0
A75: 9.5 | B75: - Firida echipata cu regulator de 25 m3/h, 25mbar - bozuri G10 - HFP606025-G10-25 | C75: buc | D75: 0 | E75: 143.44 | F75: =E75*D75 -> 0 | H75: =G75*D75 -> 0
A76: 9.6 | B76: - Firida echipata cu regulator de 25 m3/h, 25mbar - bozuri G16 - HFM705040-G16-25 | C76: buc | D76: 0 | E76: 150.65 | F76: =E76*D76 -> 0 | H76: =G76*D76 -> 0
A77: 9.7 | B77: - Firida echipata cu regulator de 50 m3/h, 25mbar - bozuri G25 - HFM807050-G25-50 | C77: buc | D77: 0 | E77: 287.1 | F77: =E77*D77 -> 0 | H77: =G77*D77 -> 0
A78: 9.8 | B78: - Firida echipata cu regulator de 75 m3/h, 25mbar - flanse CM G40 - HFM1208060-G40-75 | C78: buc | D78: 0 | E78: 307 | F78: =E78*D78 -> 0 | H78: =G78*D78 -> 0
A79: 9.9 | B79: - Firida echipata cu regulator de 100 m3/h,25mbar - flanse CM G65 - HFM1208060-G65-100-25mbar | C79: buc | D79: 0 | E79: 383 | F79: =E79*D79 -> 0 | H79: =G79*D79 -> 0
A80: 9.10 | B80: - Firida echipata cu regulator de 100 m3/h,300mbar - flanse CM G65 - HFM1208060-G65-100-300mbar | C80: buc | D80: 0 | E80: 1612 | F80: =E80*D80 -> 0 | H80: =G80*D80 -> 0
A81: 9.11 | B81: - Firida fara regulator - placa G4 - PM606025-G4 | C81: buc | D81: 0 | E81: 143 | F81: =E81*D81 -> 0 | H81: =G81*D81 -> 0
A82: 9.12 | B82: - Firida fara regulator - placa G6 - PM606025-G6 | C82: buc | D82: 0 | E82: 145 | F82: =E82*D82 -> 0 | H82: =G82*D82 -> 0
... A92: 9.22 | B92: - cadru metalic firidă/PM/PRM - cadru "H" - specificatii tehnice Anexa 28-model-cadru-montaj-firida | C92: buc | D92: 3 | E92: 156 | F92: =E92*D92 -> 468 | H92: =G92*D92 -> 0
A93: 9.23 | B93: - montaj cadru metalic și postament beton - specificatii tehnice Anexa 28-model-cadru-montaj-firida | C93: buc | D93: =D92 -> 3 | E93: 204 | F93: =E93*D93 -> 612 | H93: =G93*D93 -> 0
A94: 9.24 | B94: Demontare post - | C94: buc | D94: 0 | E94: 95 | F94: =E94*D94 -> 0 | H94: =G94*D94 -> 0
B96: TOTAL VALOARE LUCRARI RACORDARE (A+B) | F96: =F10+F18 -> 6230.15 | H96: =H10+H18 -> 0
A98: 10 | B98: Termen de garanție pentru lucrările executate (G) ( exprimat in luni): | C98: ….......... Luni
B99: Notă: Termenul de garantie va fi exprimat in luni. Termenul de garantie pentru lucrarile executate este de minim 24 luni si trebuie sa fie acelasi pentru toate lucrarile executate in cadrul procedurii (instalatii de racordare si extinderi).
A100: 11 | B100: Termen de realizare (T) - (exprimat în zile calendaristice) - MAXIM 140 ZILE
B101: Notă: Termenul de realizare - reprezinta termenul necesar parcurgerii tuturor etapelor necesare racordarii, respectiv: intocmirea si depunerea documentatiei tehnice in vederea obtinerii CU/Acord (dupa caz), obtinerea CU/Acord, intocmirea si depunerea documentatiei pentru obtinerea avizelor (dupa caz), obtinerea avizelor, intocmirea si depunerea DTAC (dupa caz), obtinerea AC, anuntul de incepere lucrari UAT si ISC, executie lucrari, receptie si predare carte tehnica, sapatura/astupare groapa de cuplare si PIF | C101: …..... Zile
A103: NOTA 1: | B103: In vederea ofertarii, Operatorul economic va studia documentul "Anexa 1.1_descriere articole oferta"
A104: NOTA 2: | B104: Pentru lucrarile si/sau materialele pentru care cantitatea estimata este zero, OE va oferta pretul unitar.
A105: NOTA 3: | B105: In cazul in care executia racordului presupune lucrari de foraj, din pretul unitar de decontare al acestuia se va scadea pretul sapaturii, raportat la lungimea forajului si a gropilor de pozitie
A107: Operator Economic ofertant/Leader Asociere
A109: Denumire: __________________________________
A111: Semnatura si stampila___________________________
A114: Operator Economic asociat | C114: Operator Economic asociat
A116: Denumire: __________________________________ | C116: Denumire: __________________________________
A119: Semnatura si stampila___________________________ | C119: Semnatura si stampila___________________________
